BEGIN:VCALENDAR
VERSION:2.0
PRODID:-//Yourdailyteacup - ECPv6.15.18//NONSGML v1.0//EN
CALSCALE:GREGORIAN
METHOD:PUBLISH
X-WR-CALNAME:Yourdailyteacup
X-ORIGINAL-URL:https://webshop.ydtc.nl
X-WR-CALDESC:Evenementen voor Yourdailyteacup
REFRESH-INTERVAL;VALUE=DURATION:PT1H
X-Robots-Tag:noindex
X-PUBLISHED-TTL:PT1H
BEGIN:VTIMEZONE
TZID:Europe/Amsterdam
BEGIN:DAYLIGHT
TZOFFSETFROM:+0100
TZOFFSETTO:+0200
TZNAME:CEST
DTSTART:20240331T010000
END:DAYLIGHT
BEGIN:STANDARD
TZOFFSETFROM:+0200
TZOFFSETTO:+0100
TZNAME:CET
DTSTART:20241027T010000
END:STANDARD
BEGIN:DAYLIGHT
TZOFFSETFROM:+0100
TZOFFSETTO:+0200
TZNAME:CEST
DTSTART:20250330T010000
END:DAYLIGHT
BEGIN:STANDARD
TZOFFSETFROM:+0200
TZOFFSETTO:+0100
TZNAME:CET
DTSTART:20251026T010000
END:STANDARD
BEGIN:DAYLIGHT
TZOFFSETFROM:+0100
TZOFFSETTO:+0200
TZNAME:CEST
DTSTART:20260329T010000
END:DAYLIGHT
BEGIN:STANDARD
TZOFFSETFROM:+0200
TZOFFSETTO:+0100
TZNAME:CET
DTSTART:20261025T010000
END:STANDARD
END:VTIMEZONE
BEGIN:VEVENT
DTSTART;TZID=Europe/Amsterdam:20251018T100000
DTEND;TZID=Europe/Amsterdam:20251019T170000
DTSTAMP:20260421T101240
CREATED:20240926T102243Z
LAST-MODIFIED:20250625T085632Z
UID:29175-1760781600-1760893200@webshop.ydtc.nl
SUMMARY:Nordic Days
DESCRIPTION:Nordic Days is een tweedaags event waar je als liefhebber van Scandinavië op de juiste plek bent! Je vindt er bedrijven die hun dienst of product aanbieden op het gebied van reizen & vakanties\, interieur en buitenleven\, food & drinks\, kleding en outdoor. Er zijn verschillende standhouders aanwezig met producten\, maar er is ook veel te beleven met experiences\, workshops en lezingen. Kortom: waan je even in Nordic sferen en beleef Scandinavië dichtbij! \nKerstmarkt\nDit jaar voegen we voor het eerst de Scandinavische kerstmarkt toe! Een markt met deelnemers met een Scandinavisch linkje\, kerstproducten\, ambachten\, handgemaakte\, lokale of duurzame producten zijn erbij!
URL:https://webshop.ydtc.nl/evenementen/nordic-days/
LOCATION:Cuijk\, Beerseweg 45\, Cuijk\, 5431LB\, Netherlands
ATTACH;FMTTYPE=image/jpeg:https://webshop.ydtc.nl/wp-content/uploads/2024/09/487754932_1069331715234902_2485319498207499025_n.jpg
END:VEVENT
END:VCALENDAR